BEGIN:VCALENDAR
VERSION:2.0
PRODID:-//Heike Raudszus - ECPv6.15.18//NONSGML v1.0//EN
CALSCALE:GREGORIAN
METHOD:PUBLISH
X-ORIGINAL-URL:https://heike-raudszus.de
X-WR-CALDESC:Veranstaltungen für Heike Raudszus
REFRESH-INTERVAL;VALUE=DURATION:PT1H
X-Robots-Tag:noindex
X-PUBLISHED-TTL:PT1H
BEGIN:VTIMEZONE
TZID:Europe/Berlin
BEGIN:DAYLIGHT
TZOFFSETFROM:+0100
TZOFFSETTO:+0200
TZNAME:CEST
DTSTART:20250330T010000
END:DAYLIGHT
BEGIN:STANDARD
TZOFFSETFROM:+0200
TZOFFSETTO:+0100
TZNAME:CET
DTSTART:20251026T010000
END:STANDARD
BEGIN:DAYLIGHT
TZOFFSETFROM:+0100
TZOFFSETTO:+0200
TZNAME:CEST
DTSTART:20260329T010000
END:DAYLIGHT
BEGIN:STANDARD
TZOFFSETFROM:+0200
TZOFFSETTO:+0100
TZNAME:CET
DTSTART:20261025T010000
END:STANDARD
BEGIN:DAYLIGHT
TZOFFSETFROM:+0100
TZOFFSETTO:+0200
TZNAME:CEST
DTSTART:20270328T010000
END:DAYLIGHT
BEGIN:STANDARD
TZOFFSETFROM:+0200
TZOFFSETTO:+0100
TZNAME:CET
DTSTART:20271031T010000
END:STANDARD
END:VTIMEZONE
BEGIN:VEVENT
DTSTART;TZID=Europe/Berlin:20260420T080000
DTEND;TZID=Europe/Berlin:20260420T090000
DTSTAMP:20260420T141644
CREATED:20241019T080728Z
LAST-MODIFIED:20260325T142021Z
UID:2447-1776672000-1776675600@heike-raudszus.de
SUMMARY:Yoga am Montag-Morgen
DESCRIPTION:Yoga am Montag-Morgen zum kraftspendenden Start in die neue Woche.  Wir nutzen die inspirierende Kraft von Yoga-Übungen\, Atem-Techniken und Meditation\, um unsere Energie aufzufrischen\, unser Bewusstsein zu stärken und das innere Gleichgewicht herzustellen. Die Wirkungsweise wird dabei durch das gemeinsame Erleben nochmals verstärkt und gibt dir somit eine innere Quelle des Ausgleichs für den Alltag. \nBitte bequeme Bekleidung\, dicke Socken sowie ggf. Matte und Decke mitbringen. \nVorkenntnisse sind nicht erforderlich. \nDiese Veranstaltung findet immer am Montagmorgen statt und kann einzeln gebucht werden. Sie findet außerhalb meiner Praxis in den Räumlichkeiten Am Tivoli 8 in Gotha statt. \nfinanzieller Ausgleich: 13\,00 Euro / Einheit (60 Minuten) \n\nJetzt anmelden!
URL:https://heike-raudszus.de/event/yamm-20_04/
LOCATION:Am Tivoli 8\, Am Tivoli 8\, Gotha\, Thüringen\, 99867\, Deutschland
CATEGORIES:Meditation,Yoga / Fünf Tibeter
END:VEVENT
BEGIN:VEVENT
DTSTART;TZID=Europe/Berlin:20260422T190000
DTEND;TZID=Europe/Berlin:20260422T200000
DTSTAMP:20260420T141644
CREATED:20231114T111221Z
LAST-MODIFIED:20251130T102513Z
UID:2262-1776884400-1776888000@heike-raudszus.de
SUMMARY:Klang-Traum
DESCRIPTION:Klangschale verbindet sich mit Traumreise. \nAn diesem Abend können Sie sich einfach entspannt tragen lassen von den Schwingungen der Klangschalen und den Bildern der Traumreisen – ein Kurzurlaub für Körper\, Geist und Seele aus dem Alltag. \nfinanzieller Ausgleich: 15\,00 Euro \n\nJetzt anmelden!
URL:https://heike-raudszus.de/event/klang-traum04/
LOCATION:vigor\, Gadollastraße 7\, Gotha\, Thüringen\, 99867\, Deutschland
CATEGORIES:Klangschale
END:VEVENT
BEGIN:VEVENT
DTSTART;TZID=Europe/Berlin:20260424T140000
DTEND;TZID=Europe/Berlin:20260424T153000
DTSTAMP:20260420T141644
CREATED:20250226T140608Z
LAST-MODIFIED:20260329T132918Z
UID:2509-1777039200-1777044600@heike-raudszus.de
SUMMARY:Wie ticke ich - wie tickst du?
DESCRIPTION:Viele Konflikte entstehen durch Missverständnisse. Wir können uns zum Teil endlos über das Verhalten der anderen aufregen und verstehen nicht\, warum sie sich so verhalten. Ich glaube\, genauso regen sich andere über uns auf\, obwohl wir uns sicher sind\, dafür keinen Grund zu geben. In diesem Vortrag möchte ich die Wesensarten auf Grundlage der Temperamentenlehre der Menschen aufzeigen. Ich möchte ebenso aufzeigen\, dass jeder in seiner Art genau richtig ist und jeder seine objektiven Grenzen zur Änderung besitzt. Es geht darum\, sich seiner eigenen Wesensart mehr bewusst zu werden\, sich dem Verhalten des anderen mehr zu öffnen und Verständnis zu zeigen\, so dass ein respektvoller und bereichernder Umgang im gesamten Miteinander stattfinden kann. \nSelbstverständlich gibt es auch Raum für Austausch und Fragen. \nfinanzieller Ausgleich: kostenfreie Veranstaltung \n\nJetzt anmelden!
URL:https://heike-raudszus.de/event/raumzeit/
LOCATION:Raumzeit Bad Tabarz\, Lauchagrundstraße 12a\, Bad Tabarz\, Thüringen\, 99891
CATEGORIES:WORKSHOP / Vorträge etc.
END:VEVENT
BEGIN:VEVENT
DTSTART;TZID=Europe/Berlin:20260425T093000
DTEND;TZID=Europe/Berlin:20260425T123000
DTSTAMP:20260420T141644
CREATED:20251207T141443Z
LAST-MODIFIED:20251207T141443Z
UID:2704-1777109400-1777120200@heike-raudszus.de
SUMMARY:Seelisch-psychische Veränderungen mit dem Älterwerden
DESCRIPTION:Das Älterwerden bringt nicht nur Veränderungen auf körperlicher Ebene mit sich. Alles ist mit allem verbunden. Somit verändern sich auch unsere seelischen\, mentalen\, psychischen Belange. In diesem Seminar möchte ich dir einige gravierende Wandlungen im Gesamtprozess des Älterwerdens aufzeigen\, die insbesondere diese tiefen inneren Ebenen berühren. Es geht um ein bewusstes Erkennen dieser objektiven Wandlungsprozesse\, um damit einen positiven Umgang zu erlangen für ein glückserfülltes Leben in reiferen Jahren. Ebenso vermittle ich Inhalte in Bezug auf ein verändertes Verhalten bei vorheriger psychischer Beeinträchtigung sowie bis in das hohe Alter hinein. \nEbenso gibt es wieder ausreichend Raum für Fragen und einen Austausch. \nfinanzieller Ausgleich: 45\,00 Euro \n\nJetzt anmelden!
URL:https://heike-raudszus.de/event/seelisch-psychische-veraenderungen-mit-dem-aelterwerden/
LOCATION:vigor\, Gadollastraße 7\, Gotha\, Thüringen\, 99867\, Deutschland
CATEGORIES:WORKSHOP / Vorträge etc.
END:VEVENT
BEGIN:VEVENT
DTSTART;TZID=Europe/Berlin:20260427T080000
DTEND;TZID=Europe/Berlin:20260427T090000
DTSTAMP:20260420T141644
CREATED:20241019T080628Z
LAST-MODIFIED:20260325T142123Z
UID:2444-1777276800-1777280400@heike-raudszus.de
SUMMARY:Yoga am Montag-Morgen
DESCRIPTION:Yoga am Montag-Morgen zum kraftspendenden Start in die neue Woche.  Wir nutzen die inspirierende Kraft von Yoga-Übungen\, Atem-Techniken und Meditation\, um unsere Energie aufzufrischen\, unser Bewusstsein zu stärken und das innere Gleichgewicht herzustellen. Die Wirkungsweise wird dabei durch das gemeinsame Erleben nochmals verstärkt und gibt dir somit eine innere Quelle des Ausgleichs für den Alltag. \nBitte bequeme Bekleidung\, dicke Socken sowie ggf. Matte und Decke mitbringen. \nVorkenntnisse sind nicht erforderlich. \nDiese Veranstaltung findet immer am Montagmorgen statt und kann einzeln gebucht werden. Sie findet außerhalb meiner Praxis in den Räumlichkeiten Am Tivoli 8 in Gotha statt. \nfinanzieller Ausgleich: 13\,00 Euro / Einheit (60 Minuten) \n\nJetzt anmelden!
URL:https://heike-raudszus.de/event/yamm_27_04/
LOCATION:Am Tivoli 8\, Am Tivoli 8\, Gotha\, Thüringen\, 99867\, Deutschland
CATEGORIES:Meditation,Yoga / Fünf Tibeter
END:VEVENT
END:VCALENDAR