BEGIN:VCALENDAR
VERSION:2.0
PRODID:-//Heike Raudszus - ECPv6.15.18//NONSGML v1.0//EN
CALSCALE:GREGORIAN
METHOD:PUBLISH
X-WR-CALNAME:Heike Raudszus
X-ORIGINAL-URL:https://heike-raudszus.de
X-WR-CALDESC:Veranstaltungen für Heike Raudszus
REFRESH-INTERVAL;VALUE=DURATION:PT1H
X-Robots-Tag:noindex
X-PUBLISHED-TTL:PT1H
BEGIN:VTIMEZONE
TZID:Europe/Berlin
BEGIN:DAYLIGHT
TZOFFSETFROM:+0100
TZOFFSETTO:+0200
TZNAME:CEST
DTSTART:20250330T010000
END:DAYLIGHT
BEGIN:STANDARD
TZOFFSETFROM:+0200
TZOFFSETTO:+0100
TZNAME:CET
DTSTART:20251026T010000
END:STANDARD
BEGIN:DAYLIGHT
TZOFFSETFROM:+0100
TZOFFSETTO:+0200
TZNAME:CEST
DTSTART:20260329T010000
END:DAYLIGHT
BEGIN:STANDARD
TZOFFSETFROM:+0200
TZOFFSETTO:+0100
TZNAME:CET
DTSTART:20261025T010000
END:STANDARD
BEGIN:DAYLIGHT
TZOFFSETFROM:+0100
TZOFFSETTO:+0200
TZNAME:CEST
DTSTART:20270328T010000
END:DAYLIGHT
BEGIN:STANDARD
TZOFFSETFROM:+0200
TZOFFSETTO:+0100
TZNAME:CET
DTSTART:20271031T010000
END:STANDARD
END:VTIMEZONE
BEGIN:VEVENT
DTSTART;TZID=Europe/Berlin:20260504T080000
DTEND;TZID=Europe/Berlin:20260504T090000
DTSTAMP:20260420T154708
CREATED:20241019T080204Z
LAST-MODIFIED:20260325T142235Z
UID:2432-1777881600-1777885200@heike-raudszus.de
SUMMARY:Yoga am Montag-Morgen
DESCRIPTION:Yoga am Montag-Morgen zum kraftspendenden Start in die neue Woche.  Wir nutzen die inspirierende Kraft von Yoga-Übungen\, Atem-Techniken und Meditation\, um unsere Energie aufzufrischen\, unser Bewusstsein zu stärken und das innere Gleichgewicht herzustellen. Die Wirkungsweise wird dabei durch das gemeinsame Erleben nochmals verstärkt und gibt dir somit eine innere Quelle des Ausgleichs für den Alltag. \nBitte bequeme Bekleidung\, dicke Socken sowie ggf. Matte und Decke mitbringen. \nVorkenntnisse sind nicht erforderlich. \nDiese Veranstaltung findet immer am Montagmorgen statt und kann einzeln gebucht werden. Sie findet außerhalb meiner Praxis in den Räumlichkeiten Am Tivoli 8 in Gotha statt. \nfinanzieller Ausgleich: 13\,00 Euro / Einheit (60 Minuten) \n\nJetzt anmelden!
URL:https://heike-raudszus.de/event/yamm_04_05/
LOCATION:Am Tivoli 8\, Am Tivoli 8\, Gotha\, Thüringen\, 99867\, Deutschland
CATEGORIES:Meditation,Yoga / Fünf Tibeter
END:VEVENT
BEGIN:VEVENT
DTSTART;TZID=Europe/Berlin:20260506T183000
DTEND;TZID=Europe/Berlin:20260506T193000
DTSTAMP:20260420T154708
CREATED:20200103T113434Z
LAST-MODIFIED:20251127T111638Z
UID:672-1778092200-1778095800@heike-raudszus.de
SUMMARY:Meditations-Abend
DESCRIPTION:gemeinsames Erleben der Meditation \nfinanzieller Ausgleich: 12\,00 Euro \n  \n\nJetzt anmelden!
URL:https://heike-raudszus.de/event/meditations-abend-05/
LOCATION:vigor\, Gadollastraße 7\, Gotha\, Thüringen\, 99867\, Deutschland
CATEGORIES:Meditation
END:VEVENT
BEGIN:VEVENT
DTSTART;TZID=Europe/Berlin:20260509T093000
DTEND;TZID=Europe/Berlin:20260509T120000
DTSTAMP:20260420T154708
CREATED:20200118T151557Z
LAST-MODIFIED:20260221T180435Z
UID:732-1778319000-1778328000@heike-raudszus.de
SUMMARY:Reiki - Treffen
DESCRIPTION:An diesem Vormittag lade ich euch ein\, die Reiki-Energie durch gegenseitiges Geben und Nehmen intensiv zu erleben. Die Sequenzen werden ergänzt durch zusätzliche Übungen zur Reinigung und Stärkung des eigenen Energiesystems und Hinweise zum Praktizieren. Ebenso gibt es Raum für Austausch und Antworten auf bestehende Fragen. Diese Veranstaltung ist auch geeignet für Reiki-Gebende\, die bereits vor geraumer Zeit die Reiki-Weihe empfangen haben\, jedoch das Reiki nicht mehr praktizierten. Das gemeinsame Erleben der Reiki-Energie schenkt uns eine entspannte\, wohltuende und harmonische gemeinsame Zeit. \nfinanzieller Ausgleich: kostenfrei \n\nJetzt anmelden!
URL:https://heike-raudszus.de/event/reiki-treffen/
LOCATION:vigor\, Gadollastraße 7\, Gotha\, Thüringen\, 99867\, Deutschland
CATEGORIES:Reiki
END:VEVENT
BEGIN:VEVENT
DTSTART;TZID=Europe/Berlin:20260511T183000
DTEND;TZID=Europe/Berlin:20260511T193000
DTSTAMP:20260420T154708
CREATED:20240609T164641Z
LAST-MODIFIED:20251223T082337Z
UID:2360-1778524200-1778527800@heike-raudszus.de
SUMMARY:Gesprächskreis "Lebens-Mut"
DESCRIPTION:Innerhalb des Gesprächskreises „Lebens-Mut“ geht es um Impulse; Anregungen; Klarheit sowie um einen Austausch von Themen\, die dich bewegen in der Gemeinschaft von Gleichgesinnten. Jeder kann sich so einbringen\, wie es für ihn stimmig ist. Die Themen sind ausgerichtet auf Inhalte\, die dich bewegen\, wo du vielleicht allein nicht weiterkommst und  Impulse\, die deine Bewusstseinsentwicklung unterstützen. \nDie Zusammenkünfte finden regelmäßig einmal pro Monat im geschützten Rahmen mit wechselnden Inhalten statt. \nkostenfreie Veranstaltung \n\nJetzt anmelden!
URL:https://heike-raudszus.de/event/gespraechskreis-lebens-mut-5/
LOCATION:vigor\, Gadollastraße 7\, Gotha\, Thüringen\, 99867\, Deutschland
CATEGORIES:WORKSHOP / Vorträge etc.
END:VEVENT
BEGIN:VEVENT
DTSTART;TZID=Europe/Berlin:20260518T080000
DTEND;TZID=Europe/Berlin:20260518T090000
DTSTAMP:20260420T154708
CREATED:20241019T080303Z
LAST-MODIFIED:20260325T142335Z
UID:2435-1779091200-1779094800@heike-raudszus.de
SUMMARY:Yoga am Montag-Morgen
DESCRIPTION:Yoga am Montag-Morgen zum kraftspendenden Start in die neue Woche.  Wir nutzen die inspirierende Kraft von Yoga-Übungen\, Atem-Techniken und Meditation\, um unsere Energie aufzufrischen\, unser Bewusstsein zu stärken und das innere Gleichgewicht herzustellen. Die Wirkungsweise wird dabei durch das gemeinsame Erleben nochmals verstärkt und gibt dir somit eine innere Quelle des Ausgleichs für den Alltag. \nBitte bequeme Bekleidung\, dicke Socken sowie ggf. Matte und Decke mitbringen. \nVorkenntnisse sind nicht erforderlich. \nDiese Veranstaltung findet immer am Montagmorgen statt und kann einzeln gebucht werden. Sie findet außerhalb meiner Praxis in den Räumlichkeiten Am Tivoli 8 in Gotha statt. \nfinanzieller Ausgleich: 13\,00 Euro / Einheit (60 Minuten) \n\nJetzt anmelden!
URL:https://heike-raudszus.de/event/yamm_18_05/
LOCATION:Am Tivoli 8\, Am Tivoli 8\, Gotha\, Thüringen\, 99867\, Deutschland
CATEGORIES:Meditation,Yoga / Fünf Tibeter
END:VEVENT
BEGIN:VEVENT
DTSTART;TZID=Europe/Berlin:20260520T190000
DTEND;TZID=Europe/Berlin:20260520T200000
DTSTAMP:20260420T154708
CREATED:20231114T111113Z
LAST-MODIFIED:20251130T102611Z
UID:2259-1779303600-1779307200@heike-raudszus.de
SUMMARY:Klang-Traum
DESCRIPTION:Klangschale verbindet sich mit Traumreise. \nAn diesem Abend können Sie sich einfach entspannt tragen lassen von den Schwingungen der Klangschalen und den Bildern der Traumreisen – ein Kurzurlaub für Körper\, Geist und Seele aus dem Alltag. \nfinanzieller Ausgleich: 15\,00 Euro \n\nJetzt anmelden!
URL:https://heike-raudszus.de/event/klang-traum05/
LOCATION:vigor\, Gadollastraße 7\, Gotha\, Thüringen\, 99867\, Deutschland
CATEGORIES:Klangschale
END:VEVENT
BEGIN:VEVENT
DTSTART;TZID=Europe/Berlin:20260527T183000
DTEND;TZID=Europe/Berlin:20260527T193000
DTSTAMP:20260420T154708
CREATED:20200215T162555Z
LAST-MODIFIED:20260329T082722Z
UID:788-1779906600-1779910200@heike-raudszus.de
SUMMARY:Meditation in der Stille
DESCRIPTION:Meditation in  der Stille – stille Meditation. An diesem Abend lade ich dich ein zur Meditation in der Stille.  Ich werde dir zwei Formen der stillen Meditation vermitteln\, so dass du die für dich stimmige erkennen kannst. Die Meditation in der Stille ist darauf ausgerichtet\, deine Gedanken zu erkennen\, sie zu zentrieren\, um mehr geistige Klarheit und inneren Frieden zu erreichen. Dieser Abend ist eine Möglichkeit für eine kurze und intensive Auszeit vom Alltag und auch vom Gedankentrubel. Eintauchen in die Stille\, geschehen lassen\, sich selbst wahrnehmen und annehmen. Gerade die stille Meditation in der Gemeinschaft vermittelt immer wieder eine intensive Energie\, von der du dich berühren lassen kannst. \nFalls du ein eigenes Meditationskissen oder eine Meditationsbank besitzt\, so kannst du diese gern zu dem Abend mitbringen. \nfinanzieller Ausgleich: 12\,00 Euro \n\nJetzt anmelden!
URL:https://heike-raudszus.de/event/stille-meditation/
LOCATION:vigor\, Gadollastraße 7\, Gotha\, Thüringen\, 99867\, Deutschland
CATEGORIES:Meditation
END:VEVENT
BEGIN:VEVENT
DTSTART;TZID=Europe/Berlin:20260530T093000
DTEND;TZID=Europe/Berlin:20260530T123000
DTSTAMP:20260420T154708
CREATED:20251208T133343Z
LAST-MODIFIED:20251208T133622Z
UID:2708-1780133400-1780144200@heike-raudszus.de
SUMMARY:Einsam? Allein?
DESCRIPTION:Das Thema Einsamkeit ist ein sehr aktuelles Thema in unserer Gesellschaft\, von dem alle Altersgruppen immer mehr berührt werden. Und es ist ein sehr subjektives Empfinden\, was Einsamkeit bedeutet. Einsamkeit – Alleinsein\, was gibt es für Unterschiede beider Aspekte. Wie kommt es zum Empfinden von Einsamkeit. Wie äußert sich das Gefühl von Einsamkeit im normalen Alltag. Welche Auswirkungen hat das Gefühl von Einsamkeit auf die Lebensqualität. Und natürlich möchte ich auch einige Impulse vermitteln\, um einen Ausweg zu finden und wieder mehr Freude und Verbundenheit zu leben. \nWie immer gibt es auch ausreichend Raum für Fragen und Austausch. \nFinanzieller Ausgleich: 45\,00 Euro \n\nJetzt anmelden!
URL:https://heike-raudszus.de/event/einsam-allein/
LOCATION:vigor\, Gadollastraße 7\, Gotha\, Thüringen\, 99867\, Deutschland
CATEGORIES:WORKSHOP / Vorträge etc.
END:VEVENT
END:VCALENDAR