BEGIN:VCALENDAR
VERSION:2.0
PRODID:-//Heike Raudszus - ECPv6.15.18//NONSGML v1.0//EN
CALSCALE:GREGORIAN
METHOD:PUBLISH
X-ORIGINAL-URL:https://heike-raudszus.de
X-WR-CALDESC:Veranstaltungen für Heike Raudszus
REFRESH-INTERVAL;VALUE=DURATION:PT1H
X-Robots-Tag:noindex
X-PUBLISHED-TTL:PT1H
BEGIN:VTIMEZONE
TZID:Europe/Berlin
BEGIN:DAYLIGHT
TZOFFSETFROM:+0100
TZOFFSETTO:+0200
TZNAME:CEST
DTSTART:20250330T010000
END:DAYLIGHT
BEGIN:STANDARD
TZOFFSETFROM:+0200
TZOFFSETTO:+0100
TZNAME:CET
DTSTART:20251026T010000
END:STANDARD
BEGIN:DAYLIGHT
TZOFFSETFROM:+0100
TZOFFSETTO:+0200
TZNAME:CEST
DTSTART:20260329T010000
END:DAYLIGHT
BEGIN:STANDARD
TZOFFSETFROM:+0200
TZOFFSETTO:+0100
TZNAME:CET
DTSTART:20261025T010000
END:STANDARD
BEGIN:DAYLIGHT
TZOFFSETFROM:+0100
TZOFFSETTO:+0200
TZNAME:CEST
DTSTART:20270328T010000
END:DAYLIGHT
BEGIN:STANDARD
TZOFFSETFROM:+0200
TZOFFSETTO:+0100
TZNAME:CET
DTSTART:20271031T010000
END:STANDARD
END:VTIMEZONE
BEGIN:VEVENT
DTSTART;TZID=Europe/Berlin:20260107T183000
DTEND;TZID=Europe/Berlin:20260107T193000
DTSTAMP:20260420T185426
CREATED:20200103T114009Z
LAST-MODIFIED:20251127T111339Z
UID:686-1767810600-1767814200@heike-raudszus.de
SUMMARY:Meditations-Abend
DESCRIPTION:gemeinsames Erleben der Meditation \nfinanzieller Ausgleich: 12\,00 Euro \n  \n\nJetzt anmelden!
URL:https://heike-raudszus.de/event/meditations-abend-01/
LOCATION:vigor\, Gadollastraße 7\, Gotha\, Thüringen\, 99867\, Deutschland
CATEGORIES:Meditation
END:VEVENT
BEGIN:VEVENT
DTSTART;TZID=Europe/Berlin:20260121T190000
DTEND;TZID=Europe/Berlin:20260121T200000
DTSTAMP:20260420T185426
CREATED:20200103T111041Z
LAST-MODIFIED:20251130T102254Z
UID:652-1769022000-1769025600@heike-raudszus.de
SUMMARY:Klang-Traum
DESCRIPTION:Klangschale verbindet sich mit Traumreise. \nAn diesem Abend können Sie sich einfach entspannt tragen lassen von den Schwingungen der Klangschalen und den Bildern der Traumreisen – ein Kurzurlaub für Körper\, Geist und Seele aus dem Alltag \nfinanzieller Ausgleich: 15\,00 Euro \n  \n  \n  \n\nJetzt anmelden!
URL:https://heike-raudszus.de/event/klang-traum01/
LOCATION:vigor\, Gadollastraße 7\, Gotha\, Thüringen\, 99867\, Deutschland
CATEGORIES:Klangschale
END:VEVENT
BEGIN:VEVENT
DTSTART;TZID=Europe/Berlin:20260128T190000
DTEND;TZID=Europe/Berlin:20260128T200000
DTSTAMP:20260420T185426
CREATED:20200215T162657Z
LAST-MODIFIED:20251106T122650Z
UID:785-1769626800-1769630400@heike-raudszus.de
SUMMARY:Osho - Dynamische Meditation
DESCRIPTION:An diesem Tag lade ich dich herzlich ein\, gemeinsam die Dynamische Meditation von Osho zu erleben. Ein wahrer  Reinigungsprozess und eine Kraftquelle für Körper\, Geist und Seele. Diese Meditation\, die besonders als eine Morgenmeditation bekannt ist\, werden wir hier gemeinsam in den Abendstunden erleben. \nIch möchte dir empfehlen\, zu dieser Meditation nüchtern zu erscheinen. Bitte bequeme Bekleidung mitbringen \nVorkenntnisse sind nicht erforderlich \nfinanzieller Ausgleich:  kostenfrei \n\nJetzt anmelden!
URL:https://heike-raudszus.de/event/bewegte-meditation/
LOCATION:vigor\, Gadollastraße 7\, Gotha\, Thüringen\, 99867\, Deutschland
CATEGORIES:Meditation
END:VEVENT
BEGIN:VEVENT
DTSTART;TZID=Europe/Berlin:20260131T093000
DTEND;TZID=Europe/Berlin:20260131T120000
DTSTAMP:20260420T185426
CREATED:20251202T074228Z
LAST-MODIFIED:20251202T074324Z
UID:2695-1769851800-1769860800@heike-raudszus.de
SUMMARY:Planetenstellen
DESCRIPTION:Das Planetenstellen ist eine Form der umfangreichen Aufstellungsarbeit. Hier können wir anhand der Positionen der Planeten untereinander in deinem persönlichen Horoskop erkennen\, wo es ggf. blockierende oder / und förderliche Aspekte gibt\, die durch das Stellen zum einen erkannt und zum anderen harmonisiert und frei begünstigend werden können. Gerade die für uns unbewussten und nicht sichtbaren Verstrickungen blockieren häufig unseren Fluss an Lebensfreude. Beziehungsweise sind wir uns häufig unserer Gaben und Fähigkeiten nicht bewusst und nutzen sie nicht für unsere glückserfüllte Lebensgestaltung. Sie sind in jedem Fall zeitgleich unsere Lernaufgaben\, um unser Selbst zu erkennen\, zu entfalten und zu leben. \nFür das Planetenstellen sind keinerlei Vorkenntnisse erforderlich. Lediglich deine Offenheit ist der Schlüssel. \nMit dem Aufsteller führe ich in Vorbereitung ein kurzes Vorab-Gespräch (wahlweise persönlich\, telefonisch\, online). \nfinanzieller Ausgleich für Aufsteller: 90\,00 Euro\nfinanzieller Ausgleich für Teilnehmer: 15\,00 Euro \n\nJetzt anmelden!
URL:https://heike-raudszus.de/event/planetenstellen/
LOCATION:vigor\, Gadollastraße 7\, Gotha\, Thüringen\, 99867\, Deutschland
CATEGORIES:WORKSHOP / Vorträge etc.
END:VEVENT
END:VCALENDAR