BEGIN:VCALENDAR
VERSION:2.0
PRODID:-//Heike Raudszus - ECPv6.15.18//NONSGML v1.0//EN
CALSCALE:GREGORIAN
METHOD:PUBLISH
X-WR-CALNAME:Heike Raudszus
X-ORIGINAL-URL:https://heike-raudszus.de
X-WR-CALDESC:Veranstaltungen für Heike Raudszus
REFRESH-INTERVAL;VALUE=DURATION:PT1H
X-Robots-Tag:noindex
X-PUBLISHED-TTL:PT1H
BEGIN:VTIMEZONE
TZID:Europe/Berlin
BEGIN:DAYLIGHT
TZOFFSETFROM:+0100
TZOFFSETTO:+0200
TZNAME:CEST
DTSTART:20250330T010000
END:DAYLIGHT
BEGIN:STANDARD
TZOFFSETFROM:+0200
TZOFFSETTO:+0100
TZNAME:CET
DTSTART:20251026T010000
END:STANDARD
BEGIN:DAYLIGHT
TZOFFSETFROM:+0100
TZOFFSETTO:+0200
TZNAME:CEST
DTSTART:20260329T010000
END:DAYLIGHT
BEGIN:STANDARD
TZOFFSETFROM:+0200
TZOFFSETTO:+0100
TZNAME:CET
DTSTART:20261025T010000
END:STANDARD
BEGIN:DAYLIGHT
TZOFFSETFROM:+0100
TZOFFSETTO:+0200
TZNAME:CEST
DTSTART:20270328T010000
END:DAYLIGHT
BEGIN:STANDARD
TZOFFSETFROM:+0200
TZOFFSETTO:+0100
TZNAME:CET
DTSTART:20271031T010000
END:STANDARD
BEGIN:DAYLIGHT
TZOFFSETFROM:+0100
TZOFFSETTO:+0200
TZNAME:CEST
DTSTART:20280326T010000
END:DAYLIGHT
BEGIN:STANDARD
TZOFFSETFROM:+0200
TZOFFSETTO:+0100
TZNAME:CET
DTSTART:20281029T010000
END:STANDARD
END:VTIMEZONE
BEGIN:VEVENT
DTSTART;TZID=Europe/Berlin:20260701T183000
DTEND;TZID=Europe/Berlin:20260701T193000
DTSTAMP:20260420T154733
CREATED:20200103T113608Z
LAST-MODIFIED:20251127T111756Z
UID:676-1782930600-1782934200@heike-raudszus.de
SUMMARY:Meditations-Abend
DESCRIPTION:gemeinsames Erleben der Meditation \nfinanzieller Ausgleich: 12\,00 Euro \n  \n\nJetzt anmelden!
URL:https://heike-raudszus.de/event/meditations-abend-07/
LOCATION:vigor\, Gadollastraße 7\, Gotha\, Thüringen\, 99867\, Deutschland
CATEGORIES:Meditation
END:VEVENT
BEGIN:VEVENT
DTSTART;TZID=Europe/Berlin:20260702T183000
DTEND;TZID=Europe/Berlin:20260723T193000
DTSTAMP:20260420T154733
CREATED:20210624T172710Z
LAST-MODIFIED:20260414T102525Z
UID:1278-1783017000-1784835000@heike-raudszus.de
SUMMARY:Sommer-Oase: Yoga & Meditation
DESCRIPTION:In diesem Kurs verbinden sich bewusste Bewegungsformen mit Meditationstechniken.  Die Übungen sind gezielt aufeinander abgestimmt und zusammengestellt\, um den gesamten Organismus in ein harmonisches Gleichgewicht zu bringen. \nVorkenntnisse sind nicht erforderlich. Bitte bequeme Kleidung mitbringen. \nKursdauer: 02.07. – 30.07.2026 = 5 Einheiten á 60 Minuten\, jeweils Donnerstag\, 18.30 – 19.30 Uhr \nfinanzieller Ausgleich: 60\,00 Euro \n\nJetzt anmelden!
URL:https://heike-raudszus.de/event/sommer-oase-1/
LOCATION:vigor\, Gadollastraße 7\, Gotha\, Thüringen\, 99867\, Deutschland
CATEGORIES:Meditation,Yoga / Fünf Tibeter
END:VEVENT
BEGIN:VEVENT
DTSTART;TZID=Europe/Berlin:20260709T183000
DTEND;TZID=Europe/Berlin:20260709T193000
DTSTAMP:20260420T154733
CREATED:20250430T171109Z
LAST-MODIFIED:20260414T102559Z
UID:2555-1783621800-1783625400@heike-raudszus.de
SUMMARY:Sommer-Oase: Yoga & Meditation
DESCRIPTION:In diesem Kurs verbinden sich bewusste Bewegungsformen mit Meditationstechniken.  Die Übungen sind gezielt aufeinander abgestimmt und zusammengestellt\, um den gesamten Organismus in ein harmonisches Gleichgewicht zu bringen. \nVorkenntnisse sind nicht erforderlich. Bitte bequeme Kleidung mitbringen. \nKursdauer: 02.07. – 30.07.2026 = 5 Einheiten á 60 Minuten\, jeweils Donnerstag\, 18.30 – 19.30 Uhr \nfinanzieller Ausgleich: 60\,00 Euro \n\nJetzt anmelden!
URL:https://heike-raudszus.de/event/sommer-oase-2/
LOCATION:vigor\, Gadollastraße 7\, Gotha\, Thüringen\, 99867\, Deutschland
CATEGORIES:Meditation,Yoga / Fünf Tibeter
END:VEVENT
BEGIN:VEVENT
DTSTART;TZID=Europe/Berlin:20260713T183000
DTEND;TZID=Europe/Berlin:20260713T193000
DTSTAMP:20260420T154733
CREATED:20240609T164812Z
LAST-MODIFIED:20260217T080618Z
UID:2363-1783967400-1783971000@heike-raudszus.de
SUMMARY:Gesprächskreis "Lebens-Mut"
DESCRIPTION:Innerhalb des Gesprächskreises „Lebens-Mut“ geht es um Impulse; Anregungen; Klarheit sowie um einen Austausch von Themen\, die dich bewegen in der Gemeinschaft von Gleichgesinnten. Jeder kann sich so einbringen\, wie es für ihn stimmig ist. Die Themen sind ausgerichtet auf Inhalte\, die dich bewegen\, wo du vielleicht allein nicht weiterkommst und  Impulse\, die deine Bewusstseinsentwicklung unterstützen. \nDie Zusammenkünfte finden regelmäßig einmal pro Monat im geschützten Rahmen mit wechselnden Inhalten statt. \nkostenfreie Veranstaltung \n\nJetzt anmelden!
URL:https://heike-raudszus.de/event/gespraechskreis-lebens-mut-7/
LOCATION:vigor\, Gadollastraße 7\, Gotha\, Thüringen\, 99867\, Deutschland
CATEGORIES:WORKSHOP / Vorträge etc.
END:VEVENT
BEGIN:VEVENT
DTSTART;TZID=Europe/Berlin:20260716T183000
DTEND;TZID=Europe/Berlin:20260716T193000
DTSTAMP:20260420T154733
CREATED:20250430T171246Z
LAST-MODIFIED:20260414T102452Z
UID:2559-1784226600-1784230200@heike-raudszus.de
SUMMARY:Sommer-Oase: Yoga & Meditation
DESCRIPTION:In diesem Kurs verbinden sich bewusste Bewegungsformen mit Meditationstechniken.  Die Übungen sind gezielt aufeinander abgestimmt und zusammengestellt\, um den gesamten Organismus in ein harmonisches Gleichgewicht zu bringen. \nVorkenntnisse sind nicht erforderlich. Bitte bequeme Kleidung mitbringen. \nKursdauer: 02.07. – 30.07.2026 = 5 Einheiten á 60 Minuten\, jeweils Donnerstag\, 18.30 – 19.30 Uhr \nfinanzieller Ausgleich: 60\,00 Euro \n\nJetzt anmelden!
URL:https://heike-raudszus.de/event/sommer-oase-3/
LOCATION:vigor\, Gadollastraße 7\, Gotha\, Thüringen\, 99867\, Deutschland
CATEGORIES:Meditation,Yoga / Fünf Tibeter
END:VEVENT
BEGIN:VEVENT
DTSTART;TZID=Europe/Berlin:20260723T183000
DTEND;TZID=Europe/Berlin:20260723T193000
DTSTAMP:20260420T154733
CREATED:20250430T171422Z
LAST-MODIFIED:20260414T102706Z
UID:2562-1784831400-1784835000@heike-raudszus.de
SUMMARY:Sommer-Oase: Yoga & Meditation
DESCRIPTION:In diesem Kurs verbinden sich bewusste Bewegungsformen mit Meditationstechniken.  Die Übungen sind gezielt aufeinander abgestimmt und zusammengestellt\, um den gesamten Organismus in ein harmonisches Gleichgewicht zu bringen. \nVorkenntnisse sind nicht erforderlich. Bitte bequeme Kleidung mitbringen. \nKursdauer: 02.07. – 30.07.2026 = 5 Einheiten á 60 Minuten\, jeweils Donnerstag\, 18.30 – 19.30 Uhr \nfinanzieller Ausgleich: 60\,00 Euro \n\nJetzt anmelden!
URL:https://heike-raudszus.de/event/sommer-oase-4/
LOCATION:vigor\, Gadollastraße 7\, Gotha\, Thüringen\, 99867\, Deutschland
CATEGORIES:Meditation,Yoga / Fünf Tibeter
END:VEVENT
BEGIN:VEVENT
DTSTART;TZID=Europe/Berlin:20260730T183000
DTEND;TZID=Europe/Berlin:20260730T193000
DTSTAMP:20260420T154733
CREATED:20260414T102839Z
LAST-MODIFIED:20260414T102917Z
UID:2768-1785436200-1785439800@heike-raudszus.de
SUMMARY:Sommer-Oase: Yoga & Meditation
DESCRIPTION:In diesem Kurs verbinden sich bewusste Bewegungsformen mit Meditationstechniken.  Die Übungen sind gezielt aufeinander abgestimmt und zusammengestellt\, um den gesamten Organismus in ein harmonisches Gleichgewicht zu bringen. \nVorkenntnisse sind nicht erforderlich. Bitte bequeme Kleidung mitbringen. \nKursdauer: 02.07. – 30.07.2026 = 5 Einheiten á 60 Minuten\, jeweils Donnerstag\, 18.30 – 19.30 Uhr \nfinanzieller Ausgleich: 60\,00 Euro \n\nJetzt anmelden!
URL:https://heike-raudszus.de/event/sommer-oase-5/
LOCATION:vigor\, Gadollastraße 7\, Gotha\, Thüringen\, 99867\, Deutschland
CATEGORIES:Meditation,Yoga / Fünf Tibeter
END:VEVENT
BEGIN:VEVENT
DTSTART;TZID=Europe/Berlin:20260822T093000
DTEND;TZID=Europe/Berlin:20260822T140000
DTSTAMP:20260420T154733
CREATED:20220116T102425Z
LAST-MODIFIED:20260419T074220Z
UID:1709-1787391000-1787407200@heike-raudszus.de
SUMMARY:Astrologie + Transite + Austausch
DESCRIPTION:Innerhalb dieses Seminars gebe ich einen Ausblick auf die vor uns liegenden Energien für die Zeichen und Planetenverbindungen. Ebenso geht es um den gemeinsamen Austausch und die Interpretation von individuellen bzw. persönlichen Horoskopen. Welche Fragen sind zeitlebens für den Horoskop-Eigner relevant\, welche Themen kommen in welchem Lebensbereich zum Tragen. Ebenso schauen wir uns anhand des Horoskops die aktuellen Energie und die Wirkung für den Horoskopinhaber an: mit welchen Herausforderungen darf ich rechnen\, welches Potential zum erfolgreichen Meistern bringe ich mit\, worauf sollte ich besonders achten etc. An diesem Seminartag geht es besonders um die Thematik der Komplexität des Horoskops\, das Zusammenspiel der einzelnen Elemente\, wo eine Unterstützung\, jedoch auch ein Blockierung erfolgen kann. \nAlle Fragen der Teilnehmer werden ausführlich beantwortet. \nfinanzieller Ausgleich:   60\,00 Euro \n\nJetzt anmelden!
URL:https://heike-raudszus.de/event/astrologie-austausch-0826/
LOCATION:Thüringen
CATEGORIES:WORKSHOP / Vorträge etc.
END:VEVENT
BEGIN:VEVENT
DTSTART;TZID=Europe/Berlin:20261030T153000
DTEND;TZID=Europe/Berlin:20261101T140000
DTSTAMP:20260420T154733
CREATED:20210421T175814Z
LAST-MODIFIED:20260217T080259Z
UID:1214-1793374200-1793541600@heike-raudszus.de
SUMMARY:Die Kraft der Stille
DESCRIPTION:“Die Kraft der Stille in Krölpa“ \nMeditationswochenende in der äußeren und inneren Stille \nMöchtest Du einmal dem Alltag entfliehen und Dich in die Stille zurückziehen\, um innere Kraft und Klarheit zu erlangen? Dieses Wochenende der stillen Meditation kann Dir diese Möglichkeit geben. Gerade die achtsame innere Einkehr ist darauf ausgerichtet\, Erkenntnisse und Klarheit zu erlangen und seine Mitte zu finden und zu stärken. \nDas gesamte Seminar findet im achtsamen Schweigen statt\, so dass jeder Teilnehmer die Möglichkeit erhält\, in heilenden Kontakt zu sich selbst zu kommen. Diese Zeit ermöglicht Dir eine bewusste Auszeit von äußeren Reizen. Es wird rundum für Dich gesorgt\, so dass Du wirklich alle Zeit und Achtsamkeit Dir selbst gegenüber schenken darfst. \nWas erwartet dich u.a.: \n\nUnterbringung im Einzelzimmer (mit WC/Dusche) in liebevoller natürlicher Atmosphäre\nVegetarische Vollverpflegung\nKlar strukturierter Tagesablauf\naktive Meditationen\ngeführt Meditationen\nstille Meditation\nGeh-Meditationen\nNatur-Meditationen\nPhasen achtsamer Körperübungen\nÜbungen der Selbstreflexion und Achtsamkeit\nZeit des kompletten Rückzuges\nAbendliche Vorträge\nBeratung / Gesprächsmöglichkeiten im Einzelgespräch zu festen Zeiten\n\nTermin: Freitag\, den 30. Oktober 2026\, Seminarbeginn 15.30 Uhr – Sonntag\, den 01. November 2026\, Seminarende 13.00 Uhr \nAnreise: Freitag ab 14.00 Uhr / Abreise Sonntag bis 14.00 Uhr \nOrt: Naturhotel Vitaleum\, Herschdorfer Straße 14\, 07387 Krölpa OT Hütten (bei Pößneck) / www.naturhotel-vitaleum.de \nPreis: 460\,00 Euro (Komplettpreis inkl. Übernachtung und Verpflegung) \nAnmeldefrist:                        30.09.2026 \nMeditationslehrerin:           Heike Raudszus \nMindestteilnehmerzahl: 6 Teilnehmer \nMaximalteilnehmerzahl: 13 Teilnehmer \nFür Fragen und weitere Informationen stehe ich gern jederzeit zur Verfügung \n\nJetzt anmelden!
URL:https://heike-raudszus.de/event/die-kraft-der-stille-10-2026/
LOCATION:Vitaleum Krölpa\, Henschdorfer Straße 14\, Krölpa OT Hütten\, Thüringen\, 07387
CATEGORIES:Meditation,WORKSHOP / Vorträge etc.
END:VEVENT
BEGIN:VEVENT
DTSTART;TZID=Europe/Berlin:20270212T153000
DTEND;TZID=Europe/Berlin:20270214T140000
DTSTAMP:20260420T154733
CREATED:20210421T175448Z
LAST-MODIFIED:20260217T080035Z
UID:1209-1802446200-1802613600@heike-raudszus.de
SUMMARY:Die Kraft der Stille
DESCRIPTION:Die Kraft der Stille in Krölpa \nMeditationswochenende in der äußeren und inneren Stille \nMöchtest du einmal dem Alltag entfliehen und dich in die Stille zurückziehen\, um innere Kraft und Klarheit zu erlangen? Dieses Wochenende der Meditation im Einklang der Stille sowie des achtsamen Schweigens kann dir diese Möglichkeit geben. Gerade die bewusste innere Einkehr ist darauf ausgerichtet\, Erkenntnisse und Klarheit zu erlangen und seine Mitte zu finden und zu stärken. \nDas Retreat findet im achtsamen Schweigen statt\, so dass jeder Teilnehmer die Möglichkeit erhält\, in heilenden Kontakt zu sich selbst zu kommen. Diese Zeit ermöglicht dir eine bewusste Auszeit von äußeren Reizen. Es wird rundum für dich gesorgt\, so dass du wirklich alle Zeit und Achtsamkeit dir selbst gegenüber schenken darfst. \nWas erwartet dich u.a.: \n\nUnterbringung im Einzelzimmer (mit WC/Dusche) in liebevoller natürlicher Atmosphäre\nVegetarische Vollverpflegung\nKlar strukturierter Tagesablauf\nAngeleitete Meditations-Techniken\nMeditation in der Stille\nGeh-Meditationen\nNatur-Meditationen\nPhasen achtsamer Körperübungen\nZeit des kompletten Rückzuges\nAbendliche Vorträge\nBeratung / Gesprächsmöglichkeiten im Einzelgespräch zu festen Zeiten\n\nAnreise: Freitag ab 14.00 Uhr (Beginn des Seminars 15.30 Uhr) / Abreise Sonntag bis 14.00 Uhr \nOrt: Naturhotel Vitaleum\, Herschdorfer Straße 14\, 07387 Krölpa OT Hütten (bei Pößneck) / www.naturhotel-vitaleum.de \nPreis: 460\,00 Euro (Komplettpreis) \nMeditationslehrerin:           Heike Raudszus \nMindestteilnehmerzahl: 6 Teilnehmer \nMaximalteilnehmerzahl: 13 Teilnehmer \nFür Fragen und weitere Informationen stehe ich gern jederzeit zur Verfügung \n\nJetzt anmelden!
URL:https://heike-raudszus.de/event/die-kraft-der-stille-02-2027/
LOCATION:Vitaleum Krölpa\, Henschdorfer Straße 14\, Krölpa OT Hütten\, Thüringen\, 07387
CATEGORIES:Meditation,WORKSHOP / Vorträge etc.
END:VEVENT
END:VCALENDAR